BEGIN:VCALENDAR
VERSION:2.0
PRODID:-//LSC Westerwald e.V. - ECPv6.15.20//NONSGML v1.0//EN
CALSCALE:GREGORIAN
METHOD:PUBLISH
X-WR-CALNAME:LSC Westerwald e.V.
X-ORIGINAL-URL:https://www.lscwesterwald.de
X-WR-CALDESC:Veranstaltungen für LSC Westerwald e.V.
REFRESH-INTERVAL;VALUE=DURATION:PT1H
X-Robots-Tag:noindex
X-PUBLISHED-TTL:PT1H
BEGIN:VTIMEZONE
TZID:Europe/Berlin
BEGIN:DAYLIGHT
TZOFFSETFROM:+0100
TZOFFSETTO:+0200
TZNAME:CEST
DTSTART:20240331T010000
END:DAYLIGHT
BEGIN:STANDARD
TZOFFSETFROM:+0200
TZOFFSETTO:+0100
TZNAME:CET
DTSTART:20241027T010000
END:STANDARD
BEGIN:DAYLIGHT
TZOFFSETFROM:+0100
TZOFFSETTO:+0200
TZNAME:CEST
DTSTART:20250330T010000
END:DAYLIGHT
BEGIN:STANDARD
TZOFFSETFROM:+0200
TZOFFSETTO:+0100
TZNAME:CET
DTSTART:20251026T010000
END:STANDARD
BEGIN:DAYLIGHT
TZOFFSETFROM:+0100
TZOFFSETTO:+0200
TZNAME:CEST
DTSTART:20260329T010000
END:DAYLIGHT
BEGIN:STANDARD
TZOFFSETFROM:+0200
TZOFFSETTO:+0100
TZNAME:CET
DTSTART:20261025T010000
END:STANDARD
END:VTIMEZONE
BEGIN:VEVENT
DTSTART;VALUE=DATE:20250705
DTEND;VALUE=DATE:20250707
DTSTAMP:20260419T205958
CREATED:20250615T124053Z
LAST-MODIFIED:20250615T124238Z
UID:4371-1751673600-1751846399@www.lscwesterwald.de
SUMMARY:Flugbetrieb in Montabaur\, Besucher erwünscht
DESCRIPTION:Flugbetrieb bei geeignetem Wetter\, Flugplatz ist besetzt\, Interessenten sind gern gesehen….Flüge nach dem PPA-Prinzip
URL:https://www.lscwesterwald.de/event/flugbetrieb-in-montabaur-besucher-erwuenscht-7/
LOCATION:Flugplatz Montabaur\, Montabaur\, Deutschland
CATEGORIES:Regulärer Flugbetrieb
ORGANIZER;CN="LSC Westerwald":MAILTO:info@lscww.de
END:VEVENT
BEGIN:VEVENT
DTSTART;VALUE=DATE:20250712
DTEND;VALUE=DATE:20250714
DTSTAMP:20260419T205958
CREATED:20250615T124609Z
LAST-MODIFIED:20250615T124625Z
UID:4375-1752278400-1752451199@www.lscwesterwald.de
SUMMARY:Flugbetrieb in Montabaur\, Besucher erwünscht
DESCRIPTION:Flugbetrieb bei geeignetem Wetter\, Flugplatz ist besetzt\, Interessenten sind gern gesehen….Flüge nach dem PPA-Prinzip
URL:https://www.lscwesterwald.de/event/flugbetrieb-in-montabaur-besucher-erwuenscht-9/
LOCATION:Flugplatz Montabaur\, Montabaur\, Deutschland
CATEGORIES:Regulärer Flugbetrieb
ORGANIZER;CN="LSC Westerwald":MAILTO:info@lscww.de
END:VEVENT
BEGIN:VEVENT
DTSTART;VALUE=DATE:20250712
DTEND;VALUE=DATE:20250720
DTSTAMP:20260419T205958
CREATED:20250615T123551Z
LAST-MODIFIED:20250615T124950Z
UID:4369-1752278400-1752969599@www.lscwesterwald.de
SUMMARY:Fliegerlager Mauterndorf (AT)
DESCRIPTION:Unser diesjähriges Fliegerlager findet endlich wieder in den Alpen statt. Der fliegerische Horizont soll in Mauterndorf erweitert werden. Der heimische Flugbetrieb geht mit einer Stammtruppe bei schönem Wetter weiter.
URL:https://www.lscwesterwald.de/event/fliegerlager-mauterndorf-at/
CATEGORIES:Fluglager
ORGANIZER;CN="LSC Westerwald":MAILTO:info@lscww.de
END:VEVENT
BEGIN:VEVENT
DTSTART;VALUE=DATE:20250719
DTEND;VALUE=DATE:20250721
DTSTAMP:20260419T205958
CREATED:20250615T124800Z
LAST-MODIFIED:20250615T124800Z
UID:4378-1752883200-1753055999@www.lscwesterwald.de
SUMMARY:Flugbetrieb in Montabaur\, Besucher erwünscht
DESCRIPTION:Flugbetrieb bei geeignetem Wetter\, Flugplatz ist besetzt\, Interessenten sind gern gesehen….Flüge nach dem PPA-Prinzip
URL:https://www.lscwesterwald.de/event/flugbetrieb-in-montabaur-besucher-erwuenscht-10/
LOCATION:Flugplatz Montabaur\, Montabaur\, Deutschland
CATEGORIES:Regulärer Flugbetrieb
ORGANIZER;CN="LSC Westerwald":MAILTO:info@lscww.de
END:VEVENT
BEGIN:VEVENT
DTSTART;VALUE=DATE:20250726
DTEND;VALUE=DATE:20250728
DTSTAMP:20260419T205958
CREATED:20250615T125141Z
LAST-MODIFIED:20250615T125141Z
UID:4380-1753488000-1753660799@www.lscwesterwald.de
SUMMARY:Flugbetrieb in Montabaur\, Besucher erwünscht
DESCRIPTION:Flugbetrieb bei geeignetem Wetter\, Flugplatz ist besetzt\, Interessenten sind gern gesehen….Flüge nach dem PPA-Prinzip
URL:https://www.lscwesterwald.de/event/flugbetrieb-in-montabaur-besucher-erwuenscht-11/
LOCATION:Flugplatz Montabaur\, Montabaur\, Deutschland
CATEGORIES:Regulärer Flugbetrieb
ORGANIZER;CN="LSC Westerwald":MAILTO:info@lscww.de
END:VEVENT
END:VCALENDAR