BEGIN:VCALENDAR
VERSION:2.0
PRODID:-//LSC Westerwald e.V. - ECPv6.15.20//NONSGML v1.0//EN
CALSCALE:GREGORIAN
METHOD:PUBLISH
X-WR-CALNAME:LSC Westerwald e.V.
X-ORIGINAL-URL:https://www.lscwesterwald.de
X-WR-CALDESC:Veranstaltungen für LSC Westerwald e.V.
REFRESH-INTERVAL;VALUE=DURATION:PT1H
X-Robots-Tag:noindex
X-PUBLISHED-TTL:PT1H
BEGIN:VTIMEZONE
TZID:Europe/Helsinki
BEGIN:DAYLIGHT
TZOFFSETFROM:+0200
TZOFFSETTO:+0300
TZNAME:EEST
DTSTART:20220327T010000
END:DAYLIGHT
BEGIN:STANDARD
TZOFFSETFROM:+0300
TZOFFSETTO:+0200
TZNAME:EET
DTSTART:20221030T010000
END:STANDARD
BEGIN:DAYLIGHT
TZOFFSETFROM:+0200
TZOFFSETTO:+0300
TZNAME:EEST
DTSTART:20230326T010000
END:DAYLIGHT
BEGIN:STANDARD
TZOFFSETFROM:+0300
TZOFFSETTO:+0200
TZNAME:EET
DTSTART:20231029T010000
END:STANDARD
BEGIN:DAYLIGHT
TZOFFSETFROM:+0200
TZOFFSETTO:+0300
TZNAME:EEST
DTSTART:20240331T010000
END:DAYLIGHT
BEGIN:STANDARD
TZOFFSETFROM:+0300
TZOFFSETTO:+0200
TZNAME:EET
DTSTART:20241027T010000
END:STANDARD
END:VTIMEZONE
BEGIN:VTIMEZONE
TZID:UTC
BEGIN:STANDARD
TZOFFSETFROM:+0000
TZOFFSETTO:+0000
TZNAME:UTC
DTSTART:20220101T000000
END:STANDARD
END:VTIMEZONE
BEGIN:VEVENT
DTSTART;TZID=Europe/Helsinki:20230505T160000
DTEND;TZID=Europe/Helsinki:20230505T200000
DTSTAMP:20260423T132403
CREATED:20230116T100301Z
LAST-MODIFIED:20230116T100301Z
UID:3161-1683302400-1683316800@www.lscwesterwald.de
SUMMARY:Einweihungsfeier des neuen Flugzeug-Hangars
DESCRIPTION:
URL:https://www.lscwesterwald.de/event/einweihungsfeier-des-neuen-flugzeug-hangars/
ORGANIZER;CN="LSC Westerwald":MAILTO:info@lscww.de
END:VEVENT
BEGIN:VEVENT
DTSTART;VALUE=DATE:20230506
DTEND;VALUE=DATE:20230508
DTSTAMP:20260423T132403
CREATED:20220727T053228Z
LAST-MODIFIED:20230121T182928Z
UID:2194-1683331200-1683503999@www.lscwesterwald.de
SUMMARY:Flugbetrieb in Montabaur\, Besucher erwünscht
DESCRIPTION:Flugbetrieb bei geeignetem Wetter\, Flugplatz ist besetzt\, Interessenten sind gern gesehen….
URL:https://www.lscwesterwald.de/event/flugbetrieb-in-montabaur-besucher-erwuenscht-4/
LOCATION:Flugplatz Montabaur\, Montabaur\, Deutschland
CATEGORIES:Regulärer Flugbetrieb
ORGANIZER;CN="LSC Westerwald":MAILTO:info@lscww.de
END:VEVENT
BEGIN:VEVENT
DTSTART;VALUE=DATE:20230513
DTEND;VALUE=DATE:20230515
DTSTAMP:20260423T132403
CREATED:20220727T053001Z
LAST-MODIFIED:20230122T145313Z
UID:2190-1683936000-1684108799@www.lscwesterwald.de
SUMMARY:Flugbetrieb in Montabaur\, Besucher erwünscht
DESCRIPTION:Flugbetrieb bei geeignetem Wetter\, Flugplatz ist besetzt\, Interessenten sind gern gesehen….
URL:https://www.lscwesterwald.de/event/flugbetrieb-in-montabaur-besucher-erwuenscht-2/
LOCATION:Flugplatz Montabaur\, Montabaur\, Deutschland
CATEGORIES:Regulärer Flugbetrieb
ORGANIZER;CN="LSC Westerwald":MAILTO:info@lscww.de
END:VEVENT
BEGIN:VEVENT
DTSTART;VALUE=DATE:20230520
DTEND;VALUE=DATE:20230522
DTSTAMP:20260423T132403
CREATED:20220727T053121Z
LAST-MODIFIED:20230122T145353Z
UID:2192-1684540800-1684713599@www.lscwesterwald.de
SUMMARY:Flugbetrieb in Montabaur\, Besucher erwünscht
DESCRIPTION:Flugbetrieb bei geeignetem Wetter\, Flugplatz ist besetzt\, Interessenten sind gern gesehen….
URL:https://www.lscwesterwald.de/event/flugbetrieb-in-montabaur-besucher-erwuenscht-3/
LOCATION:Flugplatz Montabaur\, Montabaur\, Deutschland
CATEGORIES:Regulärer Flugbetrieb
ORGANIZER;CN="LSC Westerwald":MAILTO:info@lscww.de
END:VEVENT
BEGIN:VEVENT
DTSTART;VALUE=DATE:20230526
DTEND;VALUE=DATE:20230601
DTSTAMP:20260423T132403
CREATED:20230116T095929Z
LAST-MODIFIED:20230122T151445Z
UID:3159-1685059200-1685577599@www.lscwesterwald.de
SUMMARY:Pfingst-Fliegerlager 2023 in Montabaur\, Besucher erwünscht
DESCRIPTION:Flugbetrieb bei geeignetem Wetter\, Flugplatz ist besetzt\, Interessenten sind gern gesehen….
URL:https://www.lscwesterwald.de/event/pfingst-fliegerlager-2023-in-montabaur/
LOCATION:Flugplatz Montabaur\, Montabaur\, Deutschland
CATEGORIES:Fluglager
ORGANIZER;CN="LSC Westerwald":MAILTO:info@lscww.de
END:VEVENT
END:VCALENDAR