BEGIN:VCALENDAR
VERSION:2.0
PRODID:-//LSC Westerwald e.V. - ECPv6.15.20//NONSGML v1.0//EN
CALSCALE:GREGORIAN
METHOD:PUBLISH
X-WR-CALNAME:LSC Westerwald e.V.
X-ORIGINAL-URL:https://www.lscwesterwald.de
X-WR-CALDESC:Veranstaltungen für LSC Westerwald e.V.
REFRESH-INTERVAL;VALUE=DURATION:PT1H
X-Robots-Tag:noindex
X-PUBLISHED-TTL:PT1H
BEGIN:VTIMEZONE
TZID:UTC
BEGIN:STANDARD
TZOFFSETFROM:+0000
TZOFFSETTO:+0000
TZNAME:UTC
DTSTART:20220101T000000
END:STANDARD
END:VTIMEZONE
BEGIN:VEVENT
DTSTART;VALUE=DATE:20230415
DTEND;VALUE=DATE:20230417
DTSTAMP:20260423T150604
CREATED:20220409T195402Z
LAST-MODIFIED:20230122T142401Z
UID:758-1681516800-1681689599@www.lscwesterwald.de
SUMMARY:Flugbetrieb bei geeignetem Wetter
DESCRIPTION:
URL:https://www.lscwesterwald.de/event/flugbetrieb-bei-geeignetem-wetter-2/
LOCATION:Flugplatz Montabaur\, Montabaur\, Deutschland
CATEGORIES:Regulärer Flugbetrieb
ORGANIZER;CN="LSC Westerwald":MAILTO:info@lscww.de
END:VEVENT
BEGIN:VEVENT
DTSTART;VALUE=DATE:20230422
DTEND;VALUE=DATE:20230424
DTSTAMP:20260423T150604
CREATED:20220409T195430Z
LAST-MODIFIED:20230122T142339Z
UID:760-1682121600-1682294399@www.lscwesterwald.de
SUMMARY:Flugbetrieb bei geeignetem Wetter
DESCRIPTION:
URL:https://www.lscwesterwald.de/event/flugbetrieb-bei-geeignetem-wetter-3/
LOCATION:Flugplatz Montabaur\, Montabaur\, Deutschland
CATEGORIES:Regulärer Flugbetrieb
ORGANIZER;CN="LSC Westerwald":MAILTO:info@lscww.de
END:VEVENT
BEGIN:VEVENT
DTSTART;VALUE=DATE:20230429
DTEND;VALUE=DATE:20230501
DTSTAMP:20260423T150604
CREATED:20220727T053355Z
LAST-MODIFIED:20230122T145053Z
UID:2198-1682726400-1682899199@www.lscwesterwald.de
SUMMARY:Flugbetrieb in Montabaur\, Besucher erwünscht
DESCRIPTION:Flugbetrieb bei geeignetem Wetter\, Flugplatz ist besetzt\, Interessenten sind gern gesehen….
URL:https://www.lscwesterwald.de/event/flugbetrieb-in-montabaur-besucher-erwuenscht-6/
LOCATION:Flugplatz Montabaur\, Montabaur\, Deutschland
CATEGORIES:Regulärer Flugbetrieb
ORGANIZER;CN="LSC Westerwald":MAILTO:info@lscww.de
END:VEVENT
END:VCALENDAR