BEGIN:VCALENDAR
VERSION:2.0
PRODID:-//LSC Westerwald e.V. - ECPv6.15.20//NONSGML v1.0//EN
CALSCALE:GREGORIAN
METHOD:PUBLISH
X-WR-CALNAME:LSC Westerwald e.V.
X-ORIGINAL-URL:https://www.lscwesterwald.de
X-WR-CALDESC:Veranstaltungen für LSC Westerwald e.V.
REFRESH-INTERVAL;VALUE=DURATION:PT1H
X-Robots-Tag:noindex
X-PUBLISHED-TTL:PT1H
BEGIN:VTIMEZONE
TZID:UTC
BEGIN:STANDARD
TZOFFSETFROM:+0000
TZOFFSETTO:+0000
TZNAME:UTC
DTSTART:20210101T000000
END:STANDARD
END:VTIMEZONE
BEGIN:VEVENT
DTSTART;VALUE=DATE:20220526
DTEND;VALUE=DATE:20220530
DTSTAMP:20260424T034829
CREATED:20220409T154158Z
LAST-MODIFIED:20220409T200134Z
UID:729-1653523200-1653868799@www.lscwesterwald.de
SUMMARY:Fluglager in Montabaur
DESCRIPTION:Fluglager für Mitglieder und die es werden wollen\, Flugplatz ist besetzt\, Interessenten sind gern gesehen….
URL:https://www.lscwesterwald.de/event/fluglager-in-montabaur/
LOCATION:Flugplatz Montabaur\, Montabaur\, Deutschland
ORGANIZER;CN="LSC Westerwald":MAILTO:info@lscww.de
END:VEVENT
END:VCALENDAR