BEGIN:VCALENDAR
VERSION:2.0
PRODID:-//LSC Westerwald e.V. - ECPv6.15.20//NONSGML v1.0//EN
CALSCALE:GREGORIAN
METHOD:PUBLISH
X-ORIGINAL-URL:https://www.lscwesterwald.de
X-WR-CALDESC:Veranstaltungen für LSC Westerwald e.V.
REFRESH-INTERVAL;VALUE=DURATION:PT1H
X-Robots-Tag:noindex
X-PUBLISHED-TTL:PT1H
BEGIN:VTIMEZONE
TZID:Europe/Berlin
BEGIN:DAYLIGHT
TZOFFSETFROM:+0100
TZOFFSETTO:+0200
TZNAME:CEST
DTSTART:20220327T010000
END:DAYLIGHT
BEGIN:STANDARD
TZOFFSETFROM:+0200
TZOFFSETTO:+0100
TZNAME:CET
DTSTART:20221030T010000
END:STANDARD
BEGIN:DAYLIGHT
TZOFFSETFROM:+0100
TZOFFSETTO:+0200
TZNAME:CEST
DTSTART:20230326T010000
END:DAYLIGHT
BEGIN:STANDARD
TZOFFSETFROM:+0200
TZOFFSETTO:+0100
TZNAME:CET
DTSTART:20231029T010000
END:STANDARD
BEGIN:DAYLIGHT
TZOFFSETFROM:+0100
TZOFFSETTO:+0200
TZNAME:CEST
DTSTART:20240331T010000
END:DAYLIGHT
BEGIN:STANDARD
TZOFFSETFROM:+0200
TZOFFSETTO:+0100
TZNAME:CET
DTSTART:20241027T010000
END:STANDARD
BEGIN:DAYLIGHT
TZOFFSETFROM:+0100
TZOFFSETTO:+0200
TZNAME:CEST
DTSTART:20250330T010000
END:DAYLIGHT
BEGIN:STANDARD
TZOFFSETFROM:+0200
TZOFFSETTO:+0100
TZNAME:CET
DTSTART:20251026T010000
END:STANDARD
BEGIN:DAYLIGHT
TZOFFSETFROM:+0100
TZOFFSETTO:+0200
TZNAME:CEST
DTSTART:20260329T010000
END:DAYLIGHT
BEGIN:STANDARD
TZOFFSETFROM:+0200
TZOFFSETTO:+0100
TZNAME:CET
DTSTART:20261025T010000
END:STANDARD
END:VTIMEZONE
BEGIN:VTIMEZONE
TZID:Europe/Helsinki
BEGIN:DAYLIGHT
TZOFFSETFROM:+0200
TZOFFSETTO:+0300
TZNAME:EEST
DTSTART:20210328T010000
END:DAYLIGHT
BEGIN:STANDARD
TZOFFSETFROM:+0300
TZOFFSETTO:+0200
TZNAME:EET
DTSTART:20211031T010000
END:STANDARD
BEGIN:DAYLIGHT
TZOFFSETFROM:+0200
TZOFFSETTO:+0300
TZNAME:EEST
DTSTART:20220327T010000
END:DAYLIGHT
BEGIN:STANDARD
TZOFFSETFROM:+0300
TZOFFSETTO:+0200
TZNAME:EET
DTSTART:20221030T010000
END:STANDARD
BEGIN:DAYLIGHT
TZOFFSETFROM:+0200
TZOFFSETTO:+0300
TZNAME:EEST
DTSTART:20230326T010000
END:DAYLIGHT
BEGIN:STANDARD
TZOFFSETFROM:+0300
TZOFFSETTO:+0200
TZNAME:EET
DTSTART:20231029T010000
END:STANDARD
BEGIN:DAYLIGHT
TZOFFSETFROM:+0200
TZOFFSETTO:+0300
TZNAME:EEST
DTSTART:20240331T010000
END:DAYLIGHT
BEGIN:STANDARD
TZOFFSETFROM:+0300
TZOFFSETTO:+0200
TZNAME:EET
DTSTART:20241027T010000
END:STANDARD
END:VTIMEZONE
BEGIN:VTIMEZONE
TZID:UTC
BEGIN:STANDARD
TZOFFSETFROM:+0000
TZOFFSETTO:+0000
TZNAME:UTC
DTSTART:20210101T000000
END:STANDARD
END:VTIMEZONE
BEGIN:VEVENT
DTSTART;TZID=Europe/Berlin:20250920T100000
DTEND;TZID=Europe/Berlin:20250921T170000
DTSTAMP:20260421T114912
CREATED:20250917T101401Z
LAST-MODIFIED:20250917T101401Z
UID:4510-1758362400-1758474000@www.lscwesterwald.de
SUMMARY:Schustermarkt in Montabaur
DESCRIPTION:Wir sind wie immer auf dem Schustermarkt zu finden: Infos zum Fliegen und einfach mal in ein Segelflugzeug einsteigen 😉 \nFlugbetrieb findet trotzdem statt…
URL:https://www.lscwesterwald.de/event/schustermarkt-in-montabaur-2/
LOCATION:Montabaur
CATEGORIES:Externe Veranstaltung
ATTACH;FMTTYPE=image/jpeg:https://www.lscwesterwald.de/wp-content/uploads/2025/06/WhatsApp-Image-2025-05-17-at-14.46.37.jpeg
END:VEVENT
BEGIN:VEVENT
DTSTART;VALUE=DATE:20250809
DTEND;VALUE=DATE:20250811
DTSTAMP:20260421T114912
CREATED:20250617T072018Z
LAST-MODIFIED:20250617T072018Z
UID:4394-1754697600-1754870399@www.lscwesterwald.de
SUMMARY:Flugbetrieb in Montabaur\, Besucher erwünscht
DESCRIPTION:Flugbetrieb bei geeignetem Wetter\, Flugplatz ist besetzt\, Interessenten sind gern gesehen….Flüge nach dem PPA-Prinzip
URL:https://www.lscwesterwald.de/event/flugbetrieb-in-montabaur-besucher-erwuenscht-13/
LOCATION:Flugplatz Montabaur\, Montabaur\, Deutschland
CATEGORIES:Regulärer Flugbetrieb
ORGANIZER;CN="LSC Westerwald":MAILTO:info@lscww.de
END:VEVENT
BEGIN:VEVENT
DTSTART;VALUE=DATE:20250802
DTEND;VALUE=DATE:20250804
DTSTAMP:20260421T114912
CREATED:20250617T071935Z
LAST-MODIFIED:20250617T071935Z
UID:4392-1754092800-1754265599@www.lscwesterwald.de
SUMMARY:Flugbetrieb in Montabaur\, Besucher erwünscht
DESCRIPTION:Flugbetrieb bei geeignetem Wetter\, Flugplatz ist besetzt\, Interessenten sind gern gesehen….Flüge nach dem PPA-Prinzip
URL:https://www.lscwesterwald.de/event/flugbetrieb-in-montabaur-besucher-erwuenscht-12/
LOCATION:Flugplatz Montabaur\, Montabaur\, Deutschland
CATEGORIES:Regulärer Flugbetrieb
ORGANIZER;CN="LSC Westerwald":MAILTO:info@lscww.de
END:VEVENT
BEGIN:VEVENT
DTSTART;VALUE=DATE:20250726
DTEND;VALUE=DATE:20250728
DTSTAMP:20260421T114912
CREATED:20250615T125141Z
LAST-MODIFIED:20250615T125141Z
UID:4380-1753488000-1753660799@www.lscwesterwald.de
SUMMARY:Flugbetrieb in Montabaur\, Besucher erwünscht
DESCRIPTION:Flugbetrieb bei geeignetem Wetter\, Flugplatz ist besetzt\, Interessenten sind gern gesehen….Flüge nach dem PPA-Prinzip
URL:https://www.lscwesterwald.de/event/flugbetrieb-in-montabaur-besucher-erwuenscht-11/
LOCATION:Flugplatz Montabaur\, Montabaur\, Deutschland
CATEGORIES:Regulärer Flugbetrieb
ORGANIZER;CN="LSC Westerwald":MAILTO:info@lscww.de
END:VEVENT
BEGIN:VEVENT
DTSTART;VALUE=DATE:20250719
DTEND;VALUE=DATE:20250721
DTSTAMP:20260421T114912
CREATED:20250615T124800Z
LAST-MODIFIED:20250615T124800Z
UID:4378-1752883200-1753055999@www.lscwesterwald.de
SUMMARY:Flugbetrieb in Montabaur\, Besucher erwünscht
DESCRIPTION:Flugbetrieb bei geeignetem Wetter\, Flugplatz ist besetzt\, Interessenten sind gern gesehen….Flüge nach dem PPA-Prinzip
URL:https://www.lscwesterwald.de/event/flugbetrieb-in-montabaur-besucher-erwuenscht-10/
LOCATION:Flugplatz Montabaur\, Montabaur\, Deutschland
CATEGORIES:Regulärer Flugbetrieb
ORGANIZER;CN="LSC Westerwald":MAILTO:info@lscww.de
END:VEVENT
BEGIN:VEVENT
DTSTART;VALUE=DATE:20250712
DTEND;VALUE=DATE:20250720
DTSTAMP:20260421T114912
CREATED:20250615T123551Z
LAST-MODIFIED:20250615T124950Z
UID:4369-1752278400-1752969599@www.lscwesterwald.de
SUMMARY:Fliegerlager Mauterndorf (AT)
DESCRIPTION:Unser diesjähriges Fliegerlager findet endlich wieder in den Alpen statt. Der fliegerische Horizont soll in Mauterndorf erweitert werden. Der heimische Flugbetrieb geht mit einer Stammtruppe bei schönem Wetter weiter.
URL:https://www.lscwesterwald.de/event/fliegerlager-mauterndorf-at/
CATEGORIES:Fluglager
ORGANIZER;CN="LSC Westerwald":MAILTO:info@lscww.de
END:VEVENT
BEGIN:VEVENT
DTSTART;VALUE=DATE:20250712
DTEND;VALUE=DATE:20250714
DTSTAMP:20260421T114912
CREATED:20250615T124609Z
LAST-MODIFIED:20250615T124625Z
UID:4375-1752278400-1752451199@www.lscwesterwald.de
SUMMARY:Flugbetrieb in Montabaur\, Besucher erwünscht
DESCRIPTION:Flugbetrieb bei geeignetem Wetter\, Flugplatz ist besetzt\, Interessenten sind gern gesehen….Flüge nach dem PPA-Prinzip
URL:https://www.lscwesterwald.de/event/flugbetrieb-in-montabaur-besucher-erwuenscht-9/
LOCATION:Flugplatz Montabaur\, Montabaur\, Deutschland
CATEGORIES:Regulärer Flugbetrieb
ORGANIZER;CN="LSC Westerwald":MAILTO:info@lscww.de
END:VEVENT
BEGIN:VEVENT
DTSTART;VALUE=DATE:20250705
DTEND;VALUE=DATE:20250707
DTSTAMP:20260421T114912
CREATED:20250615T124053Z
LAST-MODIFIED:20250615T124238Z
UID:4371-1751673600-1751846399@www.lscwesterwald.de
SUMMARY:Flugbetrieb in Montabaur\, Besucher erwünscht
DESCRIPTION:Flugbetrieb bei geeignetem Wetter\, Flugplatz ist besetzt\, Interessenten sind gern gesehen….Flüge nach dem PPA-Prinzip
URL:https://www.lscwesterwald.de/event/flugbetrieb-in-montabaur-besucher-erwuenscht-7/
LOCATION:Flugplatz Montabaur\, Montabaur\, Deutschland
CATEGORIES:Regulärer Flugbetrieb
ORGANIZER;CN="LSC Westerwald":MAILTO:info@lscww.de
END:VEVENT
BEGIN:VEVENT
DTSTART;VALUE=DATE:20250628
DTEND;VALUE=DATE:20250630
DTSTAMP:20260421T114912
CREATED:20250615T124408Z
LAST-MODIFIED:20250615T124408Z
UID:4373-1751068800-1751241599@www.lscwesterwald.de
SUMMARY:Flugbetrieb in Montabaur\, Besucher erwünscht
DESCRIPTION:Flugbetrieb bei geeignetem Wetter\, Flugplatz ist besetzt\, Interessenten sind gern gesehen….Flüge nach dem PPA-Prinzip
URL:https://www.lscwesterwald.de/event/flugbetrieb-in-montabaur-besucher-erwuenscht-8/
LOCATION:Flugplatz Montabaur\, Montabaur\, Deutschland
CATEGORIES:Regulärer Flugbetrieb
ORGANIZER;CN="LSC Westerwald":MAILTO:info@lscww.de
END:VEVENT
BEGIN:VEVENT
DTSTART;VALUE=DATE:20250615
DTEND;VALUE=DATE:20250623
DTSTAMP:20260421T114912
CREATED:20250615T123039Z
LAST-MODIFIED:20250615T125027Z
UID:4367-1749945600-1750636799@www.lscwesterwald.de
SUMMARY:Mittelalterollenspiel "Siegelkriege" kommen nach Montabaur
DESCRIPTION:Das Mittelalterrollenspiel Siegelkriege kommt auf den Flugplatz Montabaur. 450 Teilnehmer tauchen für einige Tage (und Nächte) tief in die Welt des Mittelalters ein. Kinder und Erwachsene üben sie in Handel\, Diplomatie und Kamp. Die Organisation ist ehrenamtlich und gemeinnützig. \nAchtung geschlossene Veranstaltung; zugänglich nur für Teilnehmer! Unser Platz ist in der Zeit nicht anfliegbar!
URL:https://www.lscwesterwald.de/event/mittelalterollenspiel-siegelkriege-kommen-nach-montabaur/
LOCATION:Flugplatz Montabaur\, Montabaur\, Deutschland
CATEGORIES:Externe Veranstaltung
END:VEVENT
BEGIN:VEVENT
DTSTART;VALUE=DATE:20250517
DTEND;VALUE=DATE:20250519
DTSTAMP:20260421T114912
CREATED:20250612T065430Z
LAST-MODIFIED:20250613T072122Z
UID:4311-1747440000-1747612799@www.lscwesterwald.de
SUMMARY:Aktivtage in Montabaur
DESCRIPTION:Aktivtage in Montabaur bedeuten; Vereine stelle sich vor und werben für sich. Der LSC wird mit einem Segelflugzeug vor Ort sein und allen Interessierten Rede und Antwort stehen.
URL:https://www.lscwesterwald.de/event/aktivtage-in-montabaur/
LOCATION:Montabaur
END:VEVENT
BEGIN:VEVENT
DTSTART;VALUE=DATE:20230805
DTEND;VALUE=DATE:20230814
DTSTAMP:20260421T114912
CREATED:20230116T100435Z
LAST-MODIFIED:20230116T100435Z
UID:3165-1691193600-1691971199@www.lscwesterwald.de
SUMMARY:Fliegerlager 2023 am Flugplatz Montabaur
DESCRIPTION:
URL:https://www.lscwesterwald.de/event/fliegerlager-2023-am-flugplatz-montabaur/
LOCATION:Flugplatz Montabaur\, Montabaur\, Deutschland
CATEGORIES:Fluglager
ORGANIZER;CN="LSC Westerwald":MAILTO:info@lscww.de
END:VEVENT
BEGIN:VEVENT
DTSTART;VALUE=DATE:20230728
DTEND;VALUE=DATE:20230731
DTSTAMP:20260421T114912
CREATED:20230116T100353Z
LAST-MODIFIED:20230116T100451Z
UID:3163-1690502400-1690761599@www.lscwesterwald.de
SUMMARY:SUBWOOD Musikfestival am Flugplatz Montabaur
DESCRIPTION:
URL:https://www.lscwesterwald.de/event/subwood-musikfestival-am-flugplatz-montabaur/
LOCATION:Flugplatz Montabaur\, Montabaur\, Deutschland
END:VEVENT
BEGIN:VEVENT
DTSTART;VALUE=DATE:20230701
DTEND;VALUE=DATE:20230703
DTSTAMP:20260421T114912
CREATED:20220727T052830Z
LAST-MODIFIED:20230122T142217Z
UID:2188-1688169600-1688342399@www.lscwesterwald.de
SUMMARY:Flugbetrieb in Montabaur\, Besucher erwünscht
DESCRIPTION:Flugbetrieb bei geeignetem Wetter\, Flugplatz ist besetzt\, Interessenten sind gern gesehen….
URL:https://www.lscwesterwald.de/event/flugbetrieb-in-montabaur-besucher-erwuenscht/
LOCATION:Flugplatz Montabaur\, Montabaur\, Deutschland
CATEGORIES:Regulärer Flugbetrieb
ORGANIZER;CN="LSC Westerwald":MAILTO:info@lscww.de
END:VEVENT
BEGIN:VEVENT
DTSTART;VALUE=DATE:20230624
DTEND;VALUE=DATE:20230626
DTSTAMP:20260421T114912
CREATED:20220727T055341Z
LAST-MODIFIED:20230122T142030Z
UID:2208-1687564800-1687737599@www.lscwesterwald.de
SUMMARY:Flugbetrieb am Flugplatz Montabaur\, Besucher erwünscht
DESCRIPTION:
URL:https://www.lscwesterwald.de/event/flugbetrieb-am-flugplatz-montabaur-besucher-erwuenscht-2/
LOCATION:Flugplatz Montabaur\, Montabaur\, Deutschland
CATEGORIES:Regulärer Flugbetrieb
ORGANIZER;CN="LSC Westerwald":MAILTO:info@lscww.de
END:VEVENT
BEGIN:VEVENT
DTSTART;VALUE=DATE:20230617
DTEND;VALUE=DATE:20230619
DTSTAMP:20260421T114912
CREATED:20230122T141952Z
LAST-MODIFIED:20230122T141952Z
UID:3187-1686960000-1687132799@www.lscwesterwald.de
SUMMARY:Flugbetrieb in Montabaur\, Interessenten willkommen....
DESCRIPTION:Flugbetrieb bei geeignetem Wetter\, Flugplatz ist besetzt\, Interessenten sind gern gesehen….
URL:https://www.lscwesterwald.de/event/flugbetrieb-in-montabaur-interessenten-willkommen/
LOCATION:Flugplatz Montabaur\, Montabaur\, Deutschland
CATEGORIES:Regulärer Flugbetrieb
ORGANIZER;CN="LSC Westerwald":MAILTO:info@lscww.de
END:VEVENT
BEGIN:VEVENT
DTSTART;VALUE=DATE:20230610
DTEND;VALUE=DATE:20230612
DTSTAMP:20260421T114912
CREATED:20220727T052117Z
LAST-MODIFIED:20230122T145606Z
UID:2186-1686355200-1686527999@www.lscwesterwald.de
SUMMARY:Flugbetrieb am Flugplatz Montabaur\, Besucher erwünscht
DESCRIPTION:Flugbetrieb bei geeignetem Wetter\, Flugplatz ist besetzt\, Interessenten sind gern gesehen….
URL:https://www.lscwesterwald.de/event/flugbetrieb-am-flugplatz-montabaur-besucher-erwuenscht/
LOCATION:Flugplatz Montabaur\, Montabaur\, Deutschland
CATEGORIES:Regulärer Flugbetrieb
ORGANIZER;CN="LSC Westerwald":MAILTO:info@lscww.de
END:VEVENT
BEGIN:VEVENT
DTSTART;VALUE=DATE:20230603
DTEND;VALUE=DATE:20230605
DTSTAMP:20260421T114912
CREATED:20220727T053317Z
LAST-MODIFIED:20230122T145510Z
UID:2196-1685750400-1685923199@www.lscwesterwald.de
SUMMARY:Flugbetrieb in Montabaur\, Besucher erwünscht
DESCRIPTION:Flugbetrieb bei geeignetem Wetter\, Flugplatz ist besetzt\, Interessenten sind gern gesehen….
URL:https://www.lscwesterwald.de/event/flugbetrieb-in-montabaur-besucher-erwuenscht-5/
LOCATION:Flugplatz Montabaur\, Montabaur\, Deutschland
CATEGORIES:Regulärer Flugbetrieb
ORGANIZER;CN="LSC Westerwald":MAILTO:info@lscww.de
END:VEVENT
BEGIN:VEVENT
DTSTART;VALUE=DATE:20230526
DTEND;VALUE=DATE:20230601
DTSTAMP:20260421T114912
CREATED:20230116T095929Z
LAST-MODIFIED:20230122T151445Z
UID:3159-1685059200-1685577599@www.lscwesterwald.de
SUMMARY:Pfingst-Fliegerlager 2023 in Montabaur\, Besucher erwünscht
DESCRIPTION:Flugbetrieb bei geeignetem Wetter\, Flugplatz ist besetzt\, Interessenten sind gern gesehen….
URL:https://www.lscwesterwald.de/event/pfingst-fliegerlager-2023-in-montabaur/
LOCATION:Flugplatz Montabaur\, Montabaur\, Deutschland
CATEGORIES:Fluglager
ORGANIZER;CN="LSC Westerwald":MAILTO:info@lscww.de
END:VEVENT
BEGIN:VEVENT
DTSTART;VALUE=DATE:20230520
DTEND;VALUE=DATE:20230522
DTSTAMP:20260421T114912
CREATED:20220727T053121Z
LAST-MODIFIED:20230122T145353Z
UID:2192-1684540800-1684713599@www.lscwesterwald.de
SUMMARY:Flugbetrieb in Montabaur\, Besucher erwünscht
DESCRIPTION:Flugbetrieb bei geeignetem Wetter\, Flugplatz ist besetzt\, Interessenten sind gern gesehen….
URL:https://www.lscwesterwald.de/event/flugbetrieb-in-montabaur-besucher-erwuenscht-3/
LOCATION:Flugplatz Montabaur\, Montabaur\, Deutschland
CATEGORIES:Regulärer Flugbetrieb
ORGANIZER;CN="LSC Westerwald":MAILTO:info@lscww.de
END:VEVENT
BEGIN:VEVENT
DTSTART;VALUE=DATE:20230513
DTEND;VALUE=DATE:20230515
DTSTAMP:20260421T114912
CREATED:20220727T053001Z
LAST-MODIFIED:20230122T145313Z
UID:2190-1683936000-1684108799@www.lscwesterwald.de
SUMMARY:Flugbetrieb in Montabaur\, Besucher erwünscht
DESCRIPTION:Flugbetrieb bei geeignetem Wetter\, Flugplatz ist besetzt\, Interessenten sind gern gesehen….
URL:https://www.lscwesterwald.de/event/flugbetrieb-in-montabaur-besucher-erwuenscht-2/
LOCATION:Flugplatz Montabaur\, Montabaur\, Deutschland
CATEGORIES:Regulärer Flugbetrieb
ORGANIZER;CN="LSC Westerwald":MAILTO:info@lscww.de
END:VEVENT
BEGIN:VEVENT
DTSTART;VALUE=DATE:20230506
DTEND;VALUE=DATE:20230508
DTSTAMP:20260421T114912
CREATED:20220727T053228Z
LAST-MODIFIED:20230121T182928Z
UID:2194-1683331200-1683503999@www.lscwesterwald.de
SUMMARY:Flugbetrieb in Montabaur\, Besucher erwünscht
DESCRIPTION:Flugbetrieb bei geeignetem Wetter\, Flugplatz ist besetzt\, Interessenten sind gern gesehen….
URL:https://www.lscwesterwald.de/event/flugbetrieb-in-montabaur-besucher-erwuenscht-4/
LOCATION:Flugplatz Montabaur\, Montabaur\, Deutschland
CATEGORIES:Regulärer Flugbetrieb
ORGANIZER;CN="LSC Westerwald":MAILTO:info@lscww.de
END:VEVENT
BEGIN:VEVENT
DTSTART;TZID=Europe/Helsinki:20230505T160000
DTEND;TZID=Europe/Helsinki:20230505T200000
DTSTAMP:20260421T114912
CREATED:20230116T100301Z
LAST-MODIFIED:20230116T100301Z
UID:3161-1683302400-1683316800@www.lscwesterwald.de
SUMMARY:Einweihungsfeier des neuen Flugzeug-Hangars
DESCRIPTION:
URL:https://www.lscwesterwald.de/event/einweihungsfeier-des-neuen-flugzeug-hangars/
ORGANIZER;CN="LSC Westerwald":MAILTO:info@lscww.de
END:VEVENT
BEGIN:VEVENT
DTSTART;VALUE=DATE:20230429
DTEND;VALUE=DATE:20230501
DTSTAMP:20260421T114912
CREATED:20220727T053355Z
LAST-MODIFIED:20230122T145053Z
UID:2198-1682726400-1682899199@www.lscwesterwald.de
SUMMARY:Flugbetrieb in Montabaur\, Besucher erwünscht
DESCRIPTION:Flugbetrieb bei geeignetem Wetter\, Flugplatz ist besetzt\, Interessenten sind gern gesehen….
URL:https://www.lscwesterwald.de/event/flugbetrieb-in-montabaur-besucher-erwuenscht-6/
LOCATION:Flugplatz Montabaur\, Montabaur\, Deutschland
CATEGORIES:Regulärer Flugbetrieb
ORGANIZER;CN="LSC Westerwald":MAILTO:info@lscww.de
END:VEVENT
BEGIN:VEVENT
DTSTART;VALUE=DATE:20230422
DTEND;VALUE=DATE:20230424
DTSTAMP:20260421T114912
CREATED:20220409T195430Z
LAST-MODIFIED:20230122T142339Z
UID:760-1682121600-1682294399@www.lscwesterwald.de
SUMMARY:Flugbetrieb bei geeignetem Wetter
DESCRIPTION:
URL:https://www.lscwesterwald.de/event/flugbetrieb-bei-geeignetem-wetter-3/
LOCATION:Flugplatz Montabaur\, Montabaur\, Deutschland
CATEGORIES:Regulärer Flugbetrieb
ORGANIZER;CN="LSC Westerwald":MAILTO:info@lscww.de
END:VEVENT
BEGIN:VEVENT
DTSTART;VALUE=DATE:20230415
DTEND;VALUE=DATE:20230417
DTSTAMP:20260421T114912
CREATED:20220409T195402Z
LAST-MODIFIED:20230122T142401Z
UID:758-1681516800-1681689599@www.lscwesterwald.de
SUMMARY:Flugbetrieb bei geeignetem Wetter
DESCRIPTION:
URL:https://www.lscwesterwald.de/event/flugbetrieb-bei-geeignetem-wetter-2/
LOCATION:Flugplatz Montabaur\, Montabaur\, Deutschland
CATEGORIES:Regulärer Flugbetrieb
ORGANIZER;CN="LSC Westerwald":MAILTO:info@lscww.de
END:VEVENT
BEGIN:VEVENT
DTSTART;TZID=Europe/Berlin:20230304T110000
DTEND;TZID=Europe/Berlin:20230304T110000
DTSTAMP:20260421T114912
CREATED:20230204T160527Z
LAST-MODIFIED:20230204T160853Z
UID:3192-1677927600-1677927600@www.lscwesterwald.de
SUMMARY:Flugsicherheitstag LSC
DESCRIPTION:
URL:https://www.lscwesterwald.de/event/flugsicherheitstag-lsc/
CATEGORIES:Pflichtveranstaltung
ORGANIZER;CN="LSC Westerwald":MAILTO:info@lscww.de
END:VEVENT
BEGIN:VEVENT
DTSTART;VALUE=DATE:20220917
DTEND;VALUE=DATE:20220919
DTSTAMP:20260421T114912
CREATED:20220831T083934Z
LAST-MODIFIED:20220831T083934Z
UID:2669-1663372800-1663545599@www.lscwesterwald.de
SUMMARY:Schustermarkt in Montabaur
DESCRIPTION:Wir sind auf dem Schustermarkt in Montabaur mit einem Segelflugzeug vertreten. \nReinsetzen und sich wie ein Pilot fühlen.\nOder bei schönem Wetter mit dem Shuttle zum Flugplatz bringen lassen und einen Rundflug machen….
URL:https://www.lscwesterwald.de/event/schustermarkt-in-montabaur/
LOCATION:Montabaur
END:VEVENT
BEGIN:VEVENT
DTSTART;VALUE=DATE:20220820
DTEND;VALUE=DATE:20220829
DTSTAMP:20260421T114912
CREATED:20220409T194104Z
LAST-MODIFIED:20220409T195918Z
UID:753-1660953600-1661731199@www.lscwesterwald.de
SUMMARY:Fliegerlager in Laucha
DESCRIPTION:
URL:https://www.lscwesterwald.de/event/fliegerlager-in-lauche/
CATEGORIES:Fluglager
END:VEVENT
BEGIN:VEVENT
DTSTART;VALUE=DATE:20220801
DTEND;VALUE=DATE:20220808
DTSTAMP:20260421T114912
CREATED:20220727T051844Z
LAST-MODIFIED:20220727T053825Z
UID:2184-1659312000-1659916799@www.lscwesterwald.de
SUMMARY:Fliegerlager in Montabaur\, Besucher erwünscht
DESCRIPTION:Flugbetrieb bei geeignetem Wetter\, Flugplatz ist besetzt\, Interessenten sind gern gesehen….
URL:https://www.lscwesterwald.de/event/fliegerlager-in-montabaur-besucher-erwuenscht/
LOCATION:Flugplatz Montabaur\, Montabaur\, Deutschland
ORGANIZER;CN="LSC Westerwald":MAILTO:info@lscww.de
END:VEVENT
END:VCALENDAR